BEGIN:VCALENDAR
VERSION:2.0
PRODID:-//hacksw/handcal//NONSGML v1.0//EN
BEGIN:VEVENT
SUMMARY:Inscription minime - Meeting Friend'z
UID:d290beff-351d-46fd-a6c8-d2d50647fbf4
DTSTART:20260524T220000Z
DTEND:20260525T220000Z
LOCATION:Localisation   
CATEGORIES:Sportif
STATUS:
URL;VALUE=URI:https://www.athletisme-montfortlegesnois.com/evenements/2026/05/25/inscription-minime-meeting-friendz-2442749
END:VEVENT
END:VCALENDAR
